Workbook

Sheet BiH
D3: PREMIJA PO VRSTAMA OSIGURANJA U BOSNI I HERCEGOVINI
A7: Šifra | B7: Vrsta osiguranja | C7: Premija
C8: Premija | D8: Udio | E8: Premija | F8: Udio | G8: Promjena iznosa premije | I8: Promjena udjela
C9: I-I-2017 | D9: (%) | E9: I-I-2018 | F9: (%) | G9: Apsolutno (KM) | H9: Relativno (%) | I9: (%)
A10: 01 | B10: Osiguranje od nezgode | C10: =FBiH!C10+RS!C10 -> 5033382.7 | D10: =C10/C$34*100 -> 9.784273 | E10: =FBiH!E10+RS!E10 -> 4819651.2 | F10: =E10/E$34*100 -> 8.7319147 | G10: =E10-C10 -> -213731.54 | H10: =IFERROR((E10-C10)/C10*100,"-") -> -4.2462803 | I10: =F10-D10 -> -1.0523582
A11: 02 | B11: Zdravstveno osiguranje | C11: =FBiH!C11+RS!C11 -> 701448.96 | D11: =C11/C$34*100 -> 1.36353 | E11: =FBiH!E11+RS!E11 -> 778894.77 | F11: =E11/E$34*100 -> 1.4111483 | G11: =E11-C11 -> 77445.81 | H11: =IFERROR((E11-C11)/C11*100,"-") -> 11.040833 | I11: =F11-D11 -> 0.047618378
A12: 03 | B12: Osiguranje cestovnih vozila | C12: =FBiH!C12+RS!C12 -> 4389419.3 | D12: =C12/C$34*100 -> 8.5324878 | E12: =FBiH!E12+RS!E12 -> 4947094.1 | F12: =E12/E$34*100 -> 8.9628071 | G12: =E12-C12 -> 557674.8 | H12: =IFERROR((E12-C12)/C12*100,"-") -> 12.704979 | I12: =F12-D12 -> 0.4303193
A13: 04 | B13: Osiguranje tračnih vozila | C13: =FBiH!C13+RS!C13 -> 0 | D13: =C13/C$34*100 -> 0 | E13: =FBiH!E13+RS!E13 -> 0 | F13: =E13/E$34*100 -> 0 | G13: =E13-C13 -> 0 | H13: =IFERROR((E13-C13)/C13*100,"-") -> - | I13: =F13-D13 -> 0
A14: 05 | B14: Osiguranje zračnih letjelica | C14: =FBiH!C14+RS!C14 -> 0 | D14: =C14/C$34*100 -> 0 | E14: =FBiH!E14+RS!E14 -> 0 | F14: =E14/E$34*100 -> 0 | G14: =E14-C14 -> 0 | H14: =IFERROR((E14-C14)/C14*100,"-") -> - | I14: =F14-D14 -> 0
A15: 06 | B15: Osiguranje plovila | C15: =FBiH!C15+RS!C15 -> 0 | D15: =C15/C$34*100 -> 0 | E15: =FBiH!E15+RS!E15 -> 0 | F15: =E15/E$34*100 -> 0 | G15: =E15-C15 -> 0 | H15: =IFERROR((E15-C15)/C15*100,"-") -> - | I15: =F15-D15 -> 0
A16: 07 | B16: Osiguranje robe u prijevozu | C16: =FBiH!C16+RS!C16 -> 1275521.9 | D16: =C16/C$34*100 -> 2.4794567 | E16: =FBiH!E16+RS!E16 -> 1337476.8 | F16: =E16/E$34*100 -> 2.4231491 | G16: =E16-C16 -> 61954.912 | H16: =IFERROR((E16-C16)/C16*100,"-") -> 4.8572205 | I16: =F16-D16 -> -0.05630758
A17: 08 | B17: Osiguranje od požara i elementarnih nepogoda | C17: =FBiH!C17+RS!C17 -> 4723855.8 | D17: =C17/C$34*100 -> 9.182591 | E17: =FBiH!E17+RS!E17 -> 4319715.2 | F17: =E17/E$34*100 -> 7.8261648 | G17: =E17-C17 -> -404140.66 | H17: =IFERROR((E17-C17)/C17*100,"-") -> -8.5553132 | I17: =F17-D17 -> -1.3564262
A18: 09 | B18: Ostala osiguranja imovine | C18: =FBiH!C18+RS!C18 -> 4189710.8 | D18: =C18/C$34*100 -> 8.1442791 | E18: =FBiH!E18+RS!E18 -> 3399932.8 | F18: =E18/E$34*100 -> 6.159766 | G18: =E18-C18 -> -789777.96 | H18: =IFERROR((E18-C18)/C18*100,"-") -> -18.850417 | I18: =F18-D18 -> -1.9845131
A19: 10 | B19: Osiguranje od odgovornosti za upotrebu motornih vozila | C19: =FBiH!C19+RS!C19 -> 19726524 | D19: =C19/C$34*100 -> 38.345921 | E19: =FBiH!E19+RS!E19 -> 22645284 | F19: =E19/E$34*100 -> 41.027178 | G19: =E19-C19 -> 2918759.6 | H19: =IFERROR((E19-C19)/C19*100,"-") -> 14.796117 | I19: =F19-D19 -> 2.6812567
A20: 11 | B20: Osiguranje od odgovornosti za upotrebu zračnih letjelica | C20: =FBiH!C20+RS!C20 -> 1395.1 | D20: =C20/C$34*100 -> 0.0027119017 | E20: =FBiH!E20+RS!E20 -> 1452.75 | F20: =E20/E$34*100 -> 0.0026319932 | G20: =E20-C20 -> 57.65 | H20: =IFERROR((E20-C20)/C20*100,"-") -> 4.1323203 | I20: =F20-D20 -> -7.9908515e-05
A21: 12 | B21: Osiguranje od odgovornosti za upotrebu plovila | C21: =FBiH!C21+RS!C21 -> 230 | D21: =C21/C$34*100 -> 0.00044709153 | E21: =FBiH!E21+RS!E21 -> 175 | F21: =E21/E$34*100 -> 0.00031705304 | G21: =E21-C21 -> -55 | H21: =IFERROR((E21-C21)/C21*100,"-") -> -23.913043 | I21: =F21-D21 -> -0.00013003849
... A27: 18 | B27: Osiguranje pomoći | C27: =FBiH!C27+RS!C27 -> 29690.67 | D27: =C27/C$34*100 -> 0.057714987 | E27: =FBiH!E27+RS!E27 -> 116273.82 | F27: =E27/E$34*100 -> 0.21065696 | G27: =E27-C27 -> 86583.15 | H27: =IFERROR((E27-C27)/C27*100,"-") -> 291.61737 | I27: =F27-D27 -> 0.15294198
A28: 01-18 | B28: NEŽIVOTNA OSIGURANJA | C28: =SUM(C10:C27) -> 41879509 | D28: =SUM(D10:D27) -> 81.408582 | E28: =SUM(E10:E27) -> 44752449 | F28: =SUM(F10:F27) -> 81.07943 | G28: =E28-C28 -> 2872940.1 | H28: =(E28-C28)/C28*100 -> 6.8600138 | I28: =F28-D28 -> -0.32915184
A29: 19.01-09 | B29: Životna osiguranja | C29: =FBiH!C29+RS!C29 -> 8861981.6 | D29: =C29/C$34*100 -> 17.226595 | E29: =FBiH!E29+RS!E29 -> 9569563.2 | F29: =E29/E$34*100 -> 17.337481 | G29: =E29-C29 -> 707581.59 | H29: =IFERROR((E29-C29)/C29*100,"-") -> 7.9844624 | I29: =F29-D29 -> 0.11088551
A30: 19.20-29 | B30: Rente | C30: =FBiH!C30+RS!C30 -> 23768.39 | D30: =C30/C$34*100 -> 0.046202808 | E30: =FBiH!E30+RS!E30 -> 10926.91 | F30: =E30/E$34*100 -> 0.019796629 | G30: =E30-C30 -> -12841.48 | H30: =IFERROR((E30-C30)/C30*100,"-") -> -54.027555 | I30: =F30-D30 -> -0.026406179
A31: 19.30-39 | B31: Dodatna osiguranja uz osiguranje života | C31: =FBiH!C31+RS!C31 -> 662884.88 | D31: =C31/C$34*100 -> 1.2885662 | E31: =FBiH!E31+RS!E31 -> 821894.83 | F31: =E31/E$34*100 -> 1.4890529 | G31: =E31-C31 -> 159009.94 | H31: =IFERROR((E31-C31)/C31*100,"-") -> 23.987565 | I31: =F31-D31 -> 0.20048674
A32: 19.99 | B32: Druge vrste životnih osiguranja | C32: =FBiH!C32+RS!C32 -> 15460.95 | D32: =C32/C$34*100 -> 0.030054173 | E32: =FBiH!E32+RS!E32 -> 40977.34 | F32: =E32/E$34*100 -> 0.074239945 | G32: =E32-C32 -> 25516.39 | H32: =IFERROR((E32-C32)/C32*100,"-") -> 165.03766 | I32: =F32-D32 -> 0.044185772
A33: 19 | B33: ŽIVOTNA OSIGURANJA | C33: =SUM(C29:C32) -> 9564095.8 | D33: =SUM(D29:D32) -> 18.591418 | E33: =SUM(E29:E32) -> 10443362 | F33: =SUM(F29:F32) -> 18.92057 | G33: =E33-C33 -> 879266.45 | H33: =(E33-C33)/C33*100 -> 9.193409 | I33: =F33-D33 -> 0.32915184
A34: 01-19 | B34: NEŽIVOTNA I ŽIVOTNA OSIGURANJA | C34: =C28+C33 -> 51443605 | D34: 100 | E34: =E28+E33 -> 55195811 | F34: =F28+F33 -> 100 | G34: =G28+G33 -> 3752206.5 | H34: =(E34-C34)/C34*100 -> 7.2938251 | I34: =F34-D34 -> 0

Sheet FBiH
D3: PREMIJA PO VRSTAMA OSIGURANJA U FEDERACIJI BOSNE I HERCEGOVINE*
A7: Šifra | B7: Vrsta osiguranja | C7: Premija
C8: Premija | D8: Udio | E8: Premija | F8: Udio | G8: Promjena iznosa premije | I8: Promjena udjela
C9: I-I-2017 | D9: (%) | E9: I-I-2018 | F9: (%) | G9: Apsolutno (KM) | H9: Relativno (%) | I9: (%)
A10: 01 | B10: Osiguranje od nezgode | C10: 3937337.3 | D10: =C10/C$34*100 -> 10.445502 | E10: 3558942.8 | F10: =E10/E$34*100 -> 8.980534 | G10: =E10-C10 -> -378394.5 | H10: =IFERROR((E10-C10)/C10*100,"-") -> -9.6104161 | I10: =F10-D10 -> -1.4649682
A11: 02 | B11: Zdravstveno osiguranje | C11: 599908.57 | D11: =C11/C$34*100 -> 1.5915188 | E11: 617000.64 | F11: =E11/E$34*100 -> 1.5569217 | G11: =E11-C11 -> 17092.07 | H11: =IFERROR((E11-C11)/C11*100,"-") -> 2.8491125 | I11: =F11-D11 -> -0.034597096
A12: 03 | B12: Osiguranje cestovnih vozila | C12: 3359620 | D12: =C12/C$34*100 -> 8.9128555 | E12: 3683690.9 | F12: =E12/E$34*100 -> 9.2953198 | G12: =E12-C12 -> 324070.87 | H12: =IFERROR((E12-C12)/C12*100,"-") -> 9.646057 | I12: =F12-D12 -> 0.38246429
A13: 04 | B13: Osiguranje tračnih vozila | C13: 0 | D13: =C13/C$34*100 -> 0 | E13: 0 | F13: =E13/E$34*100 -> 0 | G13: =E13-C13 -> 0 | H13: =IFERROR((E13-C13)/C13*100,"-") -> - | I13: =F13-D13 -> 0
A14: 05 | B14: Osiguranje zračnih letjelica | C14: 0 | D14: =C14/C$34*100 -> 0 | E14: 0 | F14: =E14/E$34*100 -> 0 | G14: =E14-C14 -> 0 | H14: =IFERROR((E14-C14)/C14*100,"-") -> - | I14: =F14-D14 -> 0
A15: 06 | B15: Osiguranje plovila | C15: 0 | D15: =C15/C$34*100 -> 0 | E15: 0 | F15: =E15/E$34*100 -> 0 | G15: =E15-C15 -> 0 | H15: =IFERROR((E15-C15)/C15*100,"-") -> - | I15: =F15-D15 -> 0
A16: 07 | B16: Osiguranje robe u prijevozu | C16: 1090166.6 | D16: =C16/C$34*100 -> 2.8921419 | E16: 1131758.3 | F16: =E16/E$34*100 -> 2.8558464 | G16: =E16-C16 -> 41591.65 | H16: =IFERROR((E16-C16)/C16*100,"-") -> 3.8151644 | I16: =F16-D16 -> -0.036295504
A17: 08 | B17: Osiguranje od požara i elementarnih nepogoda | C17: 3663194.4 | D17: =C17/C$34*100 -> 9.7182186 | E17: 3248312.6 | F17: =E17/E$34*100 -> 8.1966988 | G17: =E17-C17 -> -414881.71 | H17: =IFERROR((E17-C17)/C17*100,"-") -> -11.325681 | I17: =F17-D17 -> -1.5215198
A18: 09 | B18: Ostala osiguranja imovine | C18: 3098828.6 | D18: =C18/C$34*100 -> 8.2209927 | E18: 2396170.1 | F18: =E18/E$34*100 -> 6.0464269 | G18: =E18-C18 -> -702658.48 | H18: =IFERROR((E18-C18)/C18*100,"-") -> -22.674971 | I18: =F18-D18 -> -2.1745658
A19: 10 | B19: Osiguranje od odgovornosti za upotrebu motornih vozila | C19: 12778489 | D19: =C19/C$34*100 -> 33.900509 | E19: 14900458 | F19: =E19/E$34*100 -> 37.599388 | G19: =E19-C19 -> 2121968.9 | H19: =IFERROR((E19-C19)/C19*100,"-") -> 16.605788 | I19: =F19-D19 -> 3.6988793
A20: 11 | B20: Osiguranje od odgovornosti za upotrebu zračnih letjelica | C20: 0 | D20: =C20/C$34*100 -> 0 | E20: 0 | F20: =E20/E$34*100 -> 0 | G20: =E20-C20 -> 0 | H20: =IFERROR((E20-C20)/C20*100,"-") -> - | I20: =F20-D20 -> 0
A21: 12 | B21: Osiguranje od odgovornosti za upotrebu plovila | C21: 230 | D21: =C21/C$34*100 -> 0.00061017518 | E21: 175 | F21: =E21/E$34*100 -> 0.00044158997 | G21: =E21-C21 -> -55 | H21: =IFERROR((E21-C21)/C21*100,"-") -> -23.913043 | I21: =F21-D21 -> -0.00016858521
... A27: 18 | B27: Osiguranje pomoći | C27: 25669.21 | D27: =C27/C$34*100 -> 0.06809876 | E27: 110676.27 | F27: =E27/E$34*100 -> 0.27927732 | G27: =E27-C27 -> 85007.06 | H27: =IFERROR((E27-C27)/C27*100,"-") -> 331.16352 | I27: =F27-D27 -> 0.21117856
A28: 01-18 | B28: NEŽIVOTNA OSIGURANJA | C28: =SUM(C10:C27) -> 30214980 | D28: =SUM(D10:D27) -> 80.158395 | E28: =SUM(E10:E27) -> 31767185 | F28: =SUM(F10:F27) -> 80.160403 | G28: =E28-C28 -> 1552205.5 | H28: =(E28-C28)/C28*100 -> 5.1372053 | I28: =F28-D28 -> 0.002008111
A29: 19.01-09 | B29: Životna osiguranja | C29: 6970333.7 | D29: =C29/C$34*100 -> 18.491846 | E29: 7252837.4 | F29: =E29/E$34*100 -> 18.301601 | G29: =E29-C29 -> 282503.63 | H29: =IFERROR((E29-C29)/C29*100,"-") -> 4.0529427 | I29: =F29-D29 -> -0.19024487
A30: 19.20-29 | B30: Rente | C30: 23618.39 | D30: =C30/C$34*100 -> 0.062658067 | E30: 10776.91 | F30: =E30/E$34*100 -> 0.027194145 | G30: =E30-C30 -> -12841.48 | H30: =IFERROR((E30-C30)/C30*100,"-") -> -54.370683 | I30: =F30-D30 -> -0.035463922
A31: 19.30-39 | B31: Dodatna osiguranja uz osiguranje života | C31: 478558.56 | D31: =C31/C$34*100 -> 1.269585 | E31: 578992.25 | F31: =E31/E$34*100 -> 1.4610124 | G31: =E31-C31 -> 100433.69 | H31: =IFERROR((E31-C31)/C31*100,"-") -> 20.986709 | I31: =F31-D31 -> 0.19142739
A32: 19.99 | B32: Druge vrste životnih osiguranja | C32: 6602.28 | D32: =C32/C$34*100 -> 0.017515423 | E32: 19731.03 | F32: =E32/E$34*100 -> 0.049788714 | G32: =E32-C32 -> 13128.75 | H32: =IFERROR((E32-C32)/C32*100,"-") -> 198.85176 | I32: =F32-D32 -> 0.032273291
A33: 19 | B33: ŽIVOTNA OSIGURANJA | C33: =SUM(C29:C32) -> 7479113 | D33: =SUM(D29:D32) -> 19.841605 | E33: =SUM(E29:E32) -> 7862337.6 | F33: =SUM(F29:F32) -> 19.839597 | G33: =E33-C33 -> 383224.59 | H33: =(E33-C33)/C33*100 -> 5.1239311 | I33: =F33-D33 -> -0.002008111
A34: 01-19 | B34: NEŽIVOTNA I ŽIVOTNA OSIGURANJA | C34: =C28+C33 -> 37694093 | D34: 100 | E34: =E28+E33 -> 39629523 | F34: =F28+F33 -> 100 | G34: =G28+G33 -> 1935430.1 | H34: =(E34-C34)/C34*100 -> 5.1345715 | I34: =F34-D34 -> 0
B36: *Društva za osiguranje iz Federacije Bosne i Hercegovine i podružnice društava iz Republike Srpske

Sheet Sjedište u FBiH
C3: PREMIJA PO VRSTAMA OSIGURANJA DRUŠSTAVA SA SJEDIŠTEM U FEDERACIJI BOSNE I HERCEGOVINE
A7: Šifra | B7: Vrsta osiguranja | C7: Premija
C8: Premija | D8: Udio | E8: Premija | F8: Udio | G8: Promjena iznosa premije | I8: Promjena udjela
C9: I-I-2017 | D9: (%) | E9: I-I-2018 | F9: (%) | G9: Apsolutno (KM) | H9: Relativno (%) | I9: (%)
A10: 01 | B10: Osiguranje od nezgode | C10: 4166833 | D10: =C10/C$34*100 -> 11.341401 | E10: 3856382.9 | F10: =E10/E$34*100 -> 9.8676656 | G10: =E10-C10 -> -310450.14 | H10: =IFERROR((E10-C10)/C10*100,"-") -> -7.4505059 | I10: =F10-D10 -> -1.4737352
A11: 02 | B11: Zdravstveno osiguranje | C11: 576933 | D11: =C11/C$34*100 -> 1.5703121 | E11: 619775.67 | F11: =E11/E$34*100 -> 1.5858744 | G11: =E11-C11 -> 42842.67 | H11: =IFERROR((E11-C11)/C11*100,"-") -> 7.4259351 | I11: =F11-D11 -> 0.015562324
A12: 03 | B12: Osiguranje cestovnih vozila | C12: 3533816.6 | D12: =C12/C$34*100 -> 9.6184393 | E12: 3930879.1 | F12: =E12/E$34*100 -> 10.058286 | G12: =E12-C12 -> 397062.53 | H12: =IFERROR((E12-C12)/C12*100,"-") -> 11.236082 | I12: =F12-D12 -> 0.43984638
A13: 04 | B13: Osiguranje tračnih vozila | C13: 0 | D13: =C13/C$34*100 -> 0 | E13: 0 | F13: =E13/E$34*100 -> 0 | G13: =E13-C13 -> 0 | H13: =IFERROR((E13-C13)/C13*100,"-") -> - | I13: =F13-D13 -> 0
A14: 05 | B14: Osiguranje zračnih letjelica | C14: 0 | D14: =C14/C$34*100 -> 0 | E14: 0 | F14: =E14/E$34*100 -> 0 | G14: =E14-C14 -> 0 | H14: =IFERROR((E14-C14)/C14*100,"-") -> - | I14: =F14-D14 -> 0
A15: 06 | B15: Osiguranje plovila | C15: 0 | D15: =C15/C$34*100 -> 0 | E15: 0 | F15: =E15/E$34*100 -> 0 | G15: =E15-C15 -> 0 | H15: =IFERROR((E15-C15)/C15*100,"-") -> - | I15: =F15-D15 -> 0
A16: 07 | B16: Osiguranje robe u prijevozu | C16: 787620.01 | D16: =C16/C$34*100 -> 2.1437658 | E16: 900036.36 | F16: =E16/E$34*100 -> 2.3030021 | G16: =E16-C16 -> 112416.35 | H16: =IFERROR((E16-C16)/C16*100,"-") -> 14.272917 | I16: =F16-D16 -> 0.15923626
A17: 08 | B17: Osiguranje od požara i elementarnih nepogoda | C17: 3750743.6 | D17: =C17/C$34*100 -> 10.208877 | E17: 3347895.8 | F17: =E17/E$34*100 -> 8.5665551 | G17: =E17-C17 -> -402847.81 | H17: =IFERROR((E17-C17)/C17*100,"-") -> -10.740478 | I17: =F17-D17 -> -1.6423222
A18: 09 | B18: Ostala osiguranja imovine | C18: 1602878.7 | D18: =C18/C$34*100 -> 4.3627594 | E18: 1150439.6 | F18: =E18/E$34*100 -> 2.9437308 | G18: =E18-C18 -> -452439.12 | H18: =IFERROR((E18-C18)/C18*100,"-") -> -28.22666 | I18: =F18-D18 -> -1.4190286
A19: 10 | B19: Osiguranje od odgovornosti za upotrebu motornih vozila | C19: 12409290 | D19: =C19/C$34*100 -> 33.775948 | E19: 14193827 | F19: =E19/E$34*100 -> 36.318992 | G19: =E19-C19 -> 1784536.8 | H19: =IFERROR((E19-C19)/C19*100,"-") -> 14.380652 | I19: =F19-D19 -> 2.5430443
A20: 11 | B20: Osiguranje od odgovornosti za upotrebu zračnih letjelica | C20: 0 | D20: =C20/C$34*100 -> 0 | E20: 150 | F20: =E20/E$34*100 -> 0.00038381817 | G20: =E20-C20 -> 150 | H20: =IFERROR((E20-C20)/C20*100,"-") -> - | I20: =F20-D20 -> 0.00038381817
A21: 12 | B21: Osiguranje od odgovornosti za upotrebu plovila | C21: 230 | D21: =C21/C$34*100 -> 0.00062602033 | E21: 175 | F21: =E21/E$34*100 -> 0.00044778787 | G21: =E21-C21 -> -55 | H21: =IFERROR((E21-C21)/C21*100,"-") -> -23.913043 | I21: =F21-D21 -> -0.00017823246
... A27: 18 | B27: Osiguranje pomoći | C27: 29479.21 | D27: =C27/C$34*100 -> 0.080237325 | E27: 116076.24 | F27: =E27/E$34*100 -> 0.29701447 | G27: =E27-C27 -> 86597.03 | H27: =IFERROR((E27-C27)/C27*100,"-") -> 293.75628 | I27: =F27-D27 -> 0.21677715
A28: 01-18 | B28: NEŽIVOTNA OSIGURANJA | C28: =SUM(C10:C27) -> 28471194 | D28: =SUM(D10:D27) -> 77.493679 | E28: =SUM(E10:E27) -> 30247745 | F28: =SUM(F10:F27) -> 77.397561 | G28: =E28-C28 -> 1776550.8 | H28: =(E28-C28)/C28*100 -> 6.2398185 | I28: =F28-D28 -> -0.096118021
A29: 19.01-09 | B29: Životna osiguranja | C29: 7693675.6 | D29: =C29/C$34*100 -> 20.940858 | E29: 8138826.8 | F29: =E29/E$34*100 -> 20.825531 | G29: =E29-C29 -> 445151.19 | H29: =IFERROR((E29-C29)/C29*100,"-") -> 5.7859366 | I29: =F29-D29 -> -0.11532705
A30: 19.20-29 | B30: Rente | C30: 22949.22 | D30: =C30/C$34*100 -> 0.062463819 | E30: 9758.11 | F30: =E30/E$34*100 -> 0.024968933 | G30: =E30-C30 -> -13191.11 | H30: =IFERROR((E30-C30)/C30*100,"-") -> -57.479557 | I30: =F30-D30 -> -0.037494885
A31: 19.30-39 | B31: Dodatna osiguranja uz osiguranje života | C31: 552202.15 | D31: =C31/C$34*100 -> 1.502999 | E31: 684675.36 | F31: =E31/E$34*100 -> 1.751939 | G31: =E31-C31 -> 132473.2 | H31: =IFERROR((E31-C31)/C31*100,"-") -> 23.989983 | I31: =F31-D31 -> 0.24893995
A32: 19.99 | B32: Druge vrste životnih osiguranja | C32: 0 | D32: =C32/C$34*100 -> 0 | E32: 0 | F32: =E32/E$34*100 -> 0 | G32: =E32-C32 -> 0 | H32: =IFERROR((E32-C32)/C32*100,"-") -> - | I32: =F32-D32 -> 0
A33: 19 | B33: ŽIVOTNA OSIGURANJA | C33: =SUM(C29:C32) -> 8268827 | D33: =SUM(D29:D32) -> 22.506321 | E33: =SUM(E29:E32) -> 8833260.3 | F33: =SUM(F29:F32) -> 22.602439 | G33: =E33-C33 -> 564433.29 | H33: =(E33-C33)/C33*100 -> 6.8260382 | I33: =F33-D33 -> 0.096118021
A34: 01-19 | B34: NEŽIVOTNA I ŽIVOTNA OSIGURANJA | C34: =C28+C33 -> 36740021 | D34: 100 | E34: =E28+E33 -> 39081005 | F34: =F28+F33 -> 100 | G34: =E34-C34 -> 2340984.1 | H34: =(E34-C34)/C34*100 -> 6.371755 | I34: =F34-D34 -> 0
B37: *Društva za osiguranje iz Federacije Bosne i Hercegovine i podružnice društava u Republici Srpskoj

Sheet RS
D3: PREMIJA PO VRSTAMA OSIGURANJA U REPUBLICI SRPSKOJ*
A7: Šifra | B7: Vrsta osiguranja | C7: Premija
C8: Premija | D8: Udio | E8: Premija | F8: Udio | G8: Promjena iznosa premije | I8: Promjena udjela
C9: I-I-2017 | D9: (%) | E9: I-I-2018 | F9: (%) | G9: Apsolutno (KM) | H9: Relativno (%) | I9: (%)
A10: 01 | B10: Osiguranje od nezgode | C10: 1096045.4 | D10: =C10/C$34*100 -> 7.9715225 | E10: 1260708.4 | F10: =E10/E$34*100 -> 8.098966 | G10: =E10-C10 -> 164662.96 | H10: =IFERROR((E10-C10)/C10*100,"-") -> 15.02337 | I10: =F10-D10 -> 0.12744346
A11: 02 | B11: Zdravstveno osiguranje | C11: 101540.39 | D11: =C11/C$34*100 -> 0.73850178 | E11: 161894.13 | F11: =E11/E$34*100 -> 1.0400304 | G11: =E11-C11 -> 60353.74 | H11: =IFERROR((E11-C11)/C11*100,"-") -> 59.438161 | I11: =F11-D11 -> 0.30152862
A12: 03 | B12: Osiguranje cestovnih vozila | C12: 1029799.3 | D12: =C12/C$34*100 -> 7.4897152 | E12: 1263403.2 | F12: =E12/E$34*100 -> 8.1162779 | G12: =E12-C12 -> 233603.93 | H12: =IFERROR((E12-C12)/C12*100,"-") -> 22.684414 | I12: =F12-D12 -> 0.62656266
A13: 04 | B13: Osiguranje tračnih vozila | C13: 0 | D13: =C13/C$34*100 -> 0 | E13: 0 | F13: =E13/E$34*100 -> 0 | G13: =E13-C13 -> 0 | H13: =IFERROR((E13-C13)/C13*100,"-") -> - | I13: =F13-D13 -> 0
A14: 05 | B14: Osiguranje zračnih letjelica | C14: 0 | D14: =C14/C$34*100 -> 0 | E14: 0 | F14: =E14/E$34*100 -> 0 | G14: =E14-C14 -> 0 | H14: =IFERROR((E14-C14)/C14*100,"-") -> - | I14: =F14-D14 -> 0
A15: 06 | B15: Osiguranje plovila | C15: 0 | D15: =C15/C$34*100 -> 0 | E15: 0 | F15: =E15/E$34*100 -> 0 | G15: =E15-C15 -> 0 | H15: =IFERROR((E15-C15)/C15*100,"-") -> - | I15: =F15-D15 -> 0
A16: 07 | B16: Osiguranje robe u prijevozu | C16: 185355.28 | D16: =C16/C$34*100 -> 1.3480863 | E16: 205718.54 | F16: =E16/E$34*100 -> 1.3215645 | G16: =E16-C16 -> 20363.262 | H16: =IFERROR((E16-C16)/C16*100,"-") -> 10.986071 | I16: =F16-D16 -> -0.026521743
A17: 08 | B17: Osiguranje od požara i elementarnih nepogoda | C17: 1060661.5 | D17: =C17/C$34*100 -> 7.7141755 | E17: 1071402.5 | F17: =E17/E$34*100 -> 6.8828388 | G17: =E17-C17 -> 10741.05 | H17: =IFERROR((E17-C17)/C17*100,"-") -> 1.0126747 | I17: =F17-D17 -> -0.83133672
A18: 09 | B18: Ostala osiguranja imovine | C18: 1090882.2 | D18: =C18/C$34*100 -> 7.93397 | E18: 1003762.7 | F18: =E18/E$34*100 -> 6.4483109 | G18: =E18-C18 -> -87119.48 | H18: =IFERROR((E18-C18)/C18*100,"-") -> -7.9861496 | I18: =F18-D18 -> -1.4856591
A19: 10 | B19: Osiguranje od odgovornosti za upotrebu motornih vozila | C19: 6948034.8 | D19: =C19/C$34*100 -> 50.532956 | E19: 7744825.5 | F19: =E19/E$34*100 -> 49.753836 | G19: =E19-C19 -> 796790.69 | H19: =IFERROR((E19-C19)/C19*100,"-") -> 11.467857 | I19: =F19-D19 -> -0.77912046
A20: 11 | B20: Osiguranje od odgovornosti za upotrebu zračnih letjelica | C20: 1395.1 | D20: =C20/C$34*100 -> 0.010146542 | E20: 1452.75 | F20: =E20/E$34*100 -> 0.0093326679 | G20: =E20-C20 -> 57.65 | H20: =IFERROR((E20-C20)/C20*100,"-") -> 4.1323203 | I20: =F20-D20 -> -0.00081387405
A21: 12 | B21: Osiguranje od odgovornosti za upotrebu plovila | C21: 0 | D21: =C21/C$34*100 -> 0 | E21: 0 | F21: =E21/E$34*100 -> 0 | G21: =E21-C21 -> 0 | H21: =IFERROR((E21-C21)/C21*100,"-") -> - | I21: =F21-D21 -> 0
... A27: 18 | B27: Osiguranje pomoći | C27: 4021.46 | D27: =C27/C$34*100 -> 0.02924802 | E27: 5597.55 | F27: =E27/E$34*100 -> 0.035959439 | G27: =E27-C27 -> 1576.09 | H27: =IFERROR((E27-C27)/C27*100,"-") -> 39.191985 | I27: =F27-D27 -> 0.0067114193
A28: 01-18 | B28: NEŽIVOTNA OSIGURANJA | C28: =SUM(C10:C27) -> 11664529 | D28: =SUM(D10:D27) -> 84.83595 | E28: =SUM(E10:E27) -> 12985264 | F28: =SUM(F10:F27) -> 83.419139 | G28: =E28-C28 -> 1320734.6 | H28: =(E28-C28)/C28*100 -> 11.322656 | I28: =F28-D28 -> -1.4168115
A29: 19.01-09 | B29: Životna osiguranja | C29: 1891647.9 | D29: =C29/C$34*100 -> 13.757927 | E29: 2316725.8 | F29: =E29/E$34*100 -> 14.882969 | G29: =E29-C29 -> 425077.96 | H29: =IFERROR((E29-C29)/C29*100,"-") -> 22.471305 | I29: =F29-D29 -> 1.1250413
A30: 19.20-29 | B30: Rente | C30: 150 | D30: =C30/C$34*100 -> 0.0010909478 | E30: 150 | F30: =E30/E$34*100 -> 0.00096362085 | G30: =E30-C30 -> 0 | H30: =IFERROR((E30-C30)/C30*100,"-") -> 0 | I30: =F30-D30 -> -0.00012732697
A31: 19.30-39 | B31: Dodatna osiguranja uz osiguranje života | C31: 184326.33 | D31: =C31/C$34*100 -> 1.3406027 | E31: 242902.58 | F31: =E31/E$34*100 -> 1.5604399 | G31: =E31-C31 -> 58576.253 | H31: =IFERROR((E31-C31)/C31*100,"-") -> 31.77856 | I31: =F31-D31 -> 0.21983725
A32: 19.99 | B32: Druge vrste životnih osiguranja | C32: 8858.67 | D32: =C32/C$34*100 -> 0.064428978 | E32: 21246.31 | F32: =E32/E$34*100 -> 0.13648925 | G32: =E32-C32 -> 12387.64 | H32: =IFERROR((E32-C32)/C32*100,"-") -> 139.83634 | I32: =F32-D32 -> 0.072060271
A33: 19 | B33: ŽIVOTNA OSIGURANJA | C33: =SUM(C29:C32) -> 2084982.9 | D33: =SUM(D29:D32) -> 15.16405 | E33: =SUM(E29:E32) -> 2581024.7 | F33: =SUM(F29:F32) -> 16.580861 | G33: =E33-C33 -> 496041.85 | H33: =(E33-C33)/C33*100 -> 23.791172 | I33: =F33-D33 -> 1.4168115
A34: 01-19 | B34: NEŽIVOTNA I ŽIVOTNA OSIGURANJA | C34: =C28+C33 -> 13749512 | D34: =D28+D33 -> 100 | E34: =E28+E33 -> 15566288 | F34: =F28+F33 -> 100 | G34: =E34-C34 -> 1816776.4 | H34: =(E34-C34)/C34*100 -> 13.213388 | I34: =F34-D34 -> 0
B37: *Društva za osiguranje iz Republike Srpske i podružnice društava iz Federacije Bosne i Hercegovine

Sheet Sjedište u RS-u
D3: PREMIJA PO VRSTAMA OSIGURANJA DRUŠTAVA SA SJEDIŠTEM U REPUBLICI SRPSKOJ
A7: Šifra | B7: Vrsta osiguranja | C7: Premija
C8: Premija | D8: Udio | E8: Premija | F8: Udio | G8: Promjena iznosa premije | I8: Promjena udjela
C9: I-I-2017 | D9: (%) | E9: I-I-2018 | F9: (%) | G9: Apsolutno (KM) | H9: Relativno (%) | I9: (%)
A10: 01 | B10: Osiguranje od nezgode | C10: 866549.69 | D10: =C10/C$34*100 -> 5.893459 | E10: 963268.29 | F10: =E10/E$34*100 -> 5.9775356 | G10: =E10-C10 -> 96718.6 | H10: =IFERROR((E10-C10)/C10*100,"-") -> 11.161345 | I10: =F10-D10 -> 0.084076626
A11: 02 | B11: Zdravstveno osiguranje | C11: 124515.96 | D11: =C11/C$34*100 -> 0.84684088 | E11: 159119.1 | F11: =E11/E$34*100 -> 0.98740932 | G11: =E11-C11 -> 34603.14 | H11: =IFERROR((E11-C11)/C11*100,"-") -> 27.790124 | I11: =F11-D11 -> 0.14056844
A12: 03 | B12: Osiguranje cestovnih vozila | C12: 855602.71 | D12: =C12/C$34*100 -> 5.8190079 | E12: 1016215 | F12: =E12/E$34*100 -> 6.3060949 | G12: =E12-C12 -> 160612.27 | H12: =IFERROR((E12-C12)/C12*100,"-") -> 18.771828 | I12: =F12-D12 -> 0.48708699
A13: 04 | B13: Osiguranje tračnih vozila | C13: 0 | D13: =C13/C$34*100 -> 0 | E13: 0 | F13: =E13/E$34*100 -> 0 | G13: =E13-C13 -> 0 | H13: =IFERROR((E13-C13)/C13*100,"-") -> - | I13: =F13-D13 -> 0
A14: 05 | B14: Osiguranje zračnih letjelica | C14: 0 | D14: =C14/C$34*100 -> 0 | E14: 0 | F14: =E14/E$34*100 -> 0 | G14: =E14-C14 -> 0 | H14: =IFERROR((E14-C14)/C14*100,"-") -> - | I14: =F14-D14 -> 0
A15: 06 | B15: Osiguranje plovila | C15: 0 | D15: =C15/C$34*100 -> 0 | E15: 0 | F15: =E15/E$34*100 -> 0 | G15: =E15-C15 -> 0 | H15: =IFERROR((E15-C15)/C15*100,"-") -> - | I15: =F15-D15 -> 0
A16: 07 | B16: Osiguranje robe u prijevozu | C16: 487901.91 | D16: =C16/C$34*100 -> 3.3182516 | E16: 437440.47 | F16: =E16/E$34*100 -> 2.7145251 | G16: =E16-C16 -> -50461.438 | H16: =IFERROR((E16-C16)/C16*100,"-") -> -10.342537 | I16: =F16-D16 -> -0.60372645
A17: 08 | B17: Osiguranje od požara i elementarnih nepogoda | C17: 973112.21 | D17: =C17/C$34*100 -> 6.6181974 | E17: 971819.36 | F17: =E17/E$34*100 -> 6.030599 | G17: =E17-C17 -> -1292.85 | H17: =IFERROR((E17-C17)/C17*100,"-") -> -0.13285724 | I17: =F17-D17 -> -0.58759834
A18: 09 | B18: Ostala osiguranja imovine | C18: 2586832 | D18: =C18/C$34*100 -> 17.593208 | E18: 2249493.2 | F18: =E18/E$34*100 -> 13.95917 | G18: =E18-C18 -> -337338.84 | H18: =IFERROR((E18-C18)/C18*100,"-") -> -13.040616 | I18: =F18-D18 -> -3.6340376
A19: 10 | B19: Osiguranje od odgovornosti za upotrebu motornih vozila | C19: 7317233.8 | D19: =C19/C$34*100 -> 49.764967 | E19: 8451456.5 | F19: =E19/E$34*100 -> 52.445287 | G19: =E19-C19 -> 1134222.7 | H19: =IFERROR((E19-C19)/C19*100,"-") -> 15.500704 | I19: =F19-D19 -> 2.6803198
A20: 11 | B20: Osiguranje od odgovornosti za upotrebu zračnih letjelica | C20: 1395.1 | D20: =C20/C$34*100 -> 0.0094881629 | E20: 1302.75 | F20: =E20/E$34*100 -> 0.0080841803 | G20: =E20-C20 -> -92.35 | H20: =IFERROR((E20-C20)/C20*100,"-") -> -6.6195972 | I20: =F20-D20 -> -0.0014039826
A21: 12 | B21: Osiguranje od odgovornosti za upotrebu plovila | C21: 0 | D21: =C21/C$34*100 -> 0 | E21: 0 | F21: =E21/E$34*100 -> 0 | G21: =E21-C21 -> 0 | H21: =IFERROR((E21-C21)/C21*100,"-") -> - | I21: =F21-D21 -> 0
... A27: 18 | B27: Osiguranje pomoći | C27: 211.46 | D27: =C27/C$34*100 -> 0.0014381528 | E27: 197.58 | F27: =E27/E$34*100 -> 0.0012260774 | G27: =E27-C27 -> -13.88 | H27: =IFERROR((E27-C27)/C27*100,"-") -> -6.5638892 | I27: =F27-D27 -> -0.00021207536
A28: 01-18 | B28: NEŽIVOTNA OSIGURANJA | C28: =SUM(C10:C27) -> 13408315 | D28: =SUM(D10:D27) -> 91.190795 | E28: =SUM(E10:E27) -> 14504704 | F28: =SUM(F10:F27) -> 90.008555 | G28: =E28-C28 -> 1096389.3 | H28: =(E28-C28)/C28*100 -> 8.1769354 | I28: =F28-D28 -> -1.18224
A29: 19.01-09 | B29: Životna osiguranja | C29: 1168306 | D29: =C29/C$34*100 -> 7.9457228 | E29: 1430736.4 | F29: =E29/E$34*100 -> 8.8783966 | G29: =E29-C29 -> 262430.4 | H29: =IFERROR((E29-C29)/C29*100,"-") -> 22.462471 | I29: =F29-D29 -> 0.93267381
A30: 19.20-29 | B30: Rente | C30: 819.17 | D30: =C30/C$34*100 -> 0.0055712267 | E30: 1168.8 | F30: =E30/E$34*100 -> 0.0072529571 | G30: =E30-C30 -> 349.63 | H30: =IFERROR((E30-C30)/C30*100,"-") -> 42.681006 | I30: =F30-D30 -> 0.0016817304
A31: 19.30-39 | B31: Dodatna osiguranja uz osiguranje života | C31: 110682.73 | D31: =C31/C$34*100 -> 0.75276021 | E31: 137510.89 | F31: =E31/E$34*100 -> 0.85332015 | G31: =E31-C31 -> 26828.16 | H31: =IFERROR((E31-C31)/C31*100,"-") -> 24.238795 | I31: =F31-D31 -> 0.10055994
A32: 19.99 | B32: Druge vrste životnih osiguranja | C32: 15460.95 | D32: =C32/C$34*100 -> 0.10515089 | E32: 40685.92 | F32: =E32/E$34*100 -> 0.25247539 | G32: =E32-C32 -> 25224.97 | H32: =IFERROR((E32-C32)/C32*100,"-") -> 163.15278 | I32: =F32-D32 -> 0.14732449
A33: 19 | B33: ŽIVOTNA OSIGURANJA | C33: =SUM(C29:C32) -> 1295268.9 | D33: =SUM(D29:D32) -> 8.8092051 | E33: =SUM(E29:E32) -> 1610102 | F33: =SUM(F29:F32) -> 9.9914451 | G33: =E33-C33 -> 314833.16 | H33: =(E33-C33)/C33*100 -> 24.306394 | I33: =F33-D33 -> 1.18224
A34: 01-19 | B34: NEŽIVOTNA I ŽIVOTNA OSIGURANJA | C34: =C28+C33 -> 14703584 | D34: 100 | E34: =E28+E33 -> 16114806 | F34: =F28+F33 -> 100 | G34: =G28+G33 -> 1411222.4 | H34: =(E34-C34)/C34*100 -> 9.5978125 | I34: =F34-D34 -> 0
B37: *Društva za osiguranje iz Republike Srpske i podružnice društava u Federaciji Bosne i Hercegovine
