Workbook

Sheet BiH
A5: BROJ I VRIJEDNOST ISPLAĆENIH ŠTETA PO VRSTAMA OSIGURANJA U BOSNI I HERCEGOVINI*
B7: Vrsta osiguranja
A8: Šifra | C8: Broj isplaćenih šteta | D8: Udio | E8: Vrijednost isplaćenih šteta | F8: Udio | G8: Broj isplaćenih šteta | H8: Udio | I8: Vrijednost isplaćenih šteta | J8: Udio
C9: I-VIII-2025 | D9: (%) | E9: I-VIII-2025 | F9: (%) | G9: I-VIII-2026 | H9: (%) | I9: I-VIII-2026 | J9: (%)
A10: 01 | B10: Osiguranje od nezgode | C10: =FBiH!C11+RS!C9 -> 11029 | D10: =C10/C$34*100 -> 8.4943661 | E10: =FBiH!E11+RS!E9 -> 15272778 | F10: =E10/E$34*100 -> 4.7727369 | G10: =FBiH!G11+RS!G9 -> 11143 | H10: =G10/G$34*100 -> 7.4878204 | I10: =FBiH!I11+RS!I9 -> 16065563 | J10: =I10/I$34*100 -> 4.5936145
A11: 02 | B11: Zdravstveno osiguranje | C11: =FBiH!C12+RS!C10 -> 29237 | D11: =C11/C$34*100 -> 22.517888 | E11: =FBiH!E12+RS!E10 -> 7118937 | F11: =E11/E$34*100 -> 2.2246649 | G11: =FBiH!G12+RS!G10 -> 41367 | H11: =G11/G$34*100 -> 27.797601 | I11: =FBiH!I12+RS!I10 -> 8967224 | J11: =I11/I$34*100 -> 2.5639917
A12: 03 | B12: Osiguranje cestovnih vozila | C12: =FBiH!C13+RS!C11 -> 20906 | D12: =C12/C$34*100 -> 16.10148 | E12: =FBiH!E13+RS!E11 -> 54567715 | F12: =E12/E$34*100 -> 17.052389 | G12: =FBiH!G13+RS!G11 -> 22650 | H12: =G12/G$34*100 -> 15.22024 | I12: =FBiH!I13+RS!I11 -> 63245514 | J12: =I12/I$34*100 -> 18.083743
A13: 04 | B13: Osiguranje tračnih vozila | C13: =FBiH!C14+RS!C12 -> 0 | D13: =C13/C$34*100 -> 0 | E13: =FBiH!E14+RS!E12 -> 0 | F13: =E13/E$34*100 -> 0 | G13: =FBiH!G14+RS!G12 -> 0 | H13: =G13/G$34*100 -> 0 | I13: =FBiH!I14+RS!I12 -> 0 | J13: =I13/I$34*100 -> 0
A14: 05 | B14: Osiguranje zračnih letjelica | C14: =FBiH!C15+RS!C13 -> 1 | D14: =C14/C$34*100 -> 0.00077018461 | E14: =FBiH!E15+RS!E13 -> 6845 | F14: =E14/E$34*100 -> 0.0021390597 | G14: =FBiH!G15+RS!G13 -> 0 | H14: =G14/G$34*100 -> 0 | I14: =FBiH!I15+RS!I13 -> 0 | J14: =I14/I$34*100 -> 0
A15: 06 | B15: Osiguranje plovila | C15: =FBiH!C16+RS!C14 -> 0 | D15: =C15/C$34*100 -> 0 | E15: =FBiH!E16+RS!E14 -> 0 | F15: =E15/E$34*100 -> 0 | G15: =FBiH!G16+RS!G14 -> 0 | H15: =G15/G$34*100 -> 0 | I15: =FBiH!I16+RS!I14 -> 0 | J15: =I15/I$34*100 -> 0
A16: 07 | B16: Osiguranje robe u prevozu | C16: =FBiH!C17+RS!C15 -> 169 | D16: =C16/C$34*100 -> 0.1301612 | E16: =FBiH!E17+RS!E15 -> 509406 | F16: =E16/E$34*100 -> 0.15918917 | G16: =FBiH!G17+RS!G15 -> 185 | H16: =G16/G$34*100 -> 0.12431543 | I16: =FBiH!I17+RS!I15 -> 439295 | J16: =I16/I$34*100 -> 0.12560729
A17: 08 | B17: Osiguranje od požara i elementarnih nepogoda | C17: =FBiH!C18+RS!C16 -> 1668 | D17: =C17/C$34*100 -> 1.2846679 | E17: =FBiH!E18+RS!E16 -> 11914578 | F17: =E17/E$34*100 -> 3.7233008 | G17: =FBiH!G18+RS!G16 -> 1473 | H17: =G17/G$34*100 -> 0.98981957 | I17: =FBiH!I18+RS!I16 -> 7703860 | J17: =I17/I$34*100 -> 2.202759
A18: 09 | B18: Ostala osiguranja imovine | C18: =FBiH!C19+RS!C17 -> 2114 | D18: =C18/C$34*100 -> 1.6281703 | E18: =FBiH!E19+RS!E17 -> 9251034 | F18: =E18/E$34*100 -> 2.8909444 | G18: =FBiH!G19+RS!G17 -> 1971 | H18: =G18/G$34*100 -> 1.3244633 | I18: =FBiH!I19+RS!I17 -> 6112161 | J18: =I18/I$34*100 -> 1.7476456
A19: 10 | B19: Osiguranje od odgovornosti za upotrebu motornih vozila | C19: =FBiH!C20+RS!C18 -> 43489 | D19: =C19/C$34*100 -> 33.494559 | E19: =FBiH!E20+RS!E18 -> 133250334 | F19: =E19/E$34*100 -> 41.640675 | G19: =FBiH!G20+RS!G18 -> 47147 | H19: =G19/G$34*100 -> 31.681618 | I19: =FBiH!I20+RS!I18 -> 155915187 | J19: =I19/I$34*100 -> 44.580713
A20: 11 | B20: Osiguranje od odgovornosti za upotrebu zračnih letjelica | C20: =FBiH!C21+RS!C19 -> 0 | D20: =C20/C$34*100 -> 0 | E20: =FBiH!E21+RS!E19 -> 0 | F20: =E20/E$34*100 -> 0 | G20: =FBiH!G21+RS!G19 -> 0 | H20: =G20/G$34*100 -> 0 | I20: =FBiH!I21+RS!I19 -> 0 | J20: =I20/I$34*100 -> 0
A21: 12 | B21: Osiguranje od odgovornosti za upotrebu plovila | C21: =FBiH!C22+RS!C20 -> 0 | D21: =C21/C$34*100 -> 0 | E21: =FBiH!E22+RS!E20 -> 386 | F21: =E21/E$34*100 -> 0.00012062484 | G21: =FBiH!G22+RS!G20 -> 0 | H21: =G21/G$34*100 -> 0 | I21: =FBiH!I22+RS!I20 -> 0 | J21: =I21/I$34*100 -> 0
... A27: 18 | B27: Osiguranje pomoći | C27: =FBiH!C28+RS!C26 -> 681 | D27: =C27/C$34*100 -> 0.52449572 | E27: =FBiH!E28+RS!E26 -> 368482 | F27: =E27/E$34*100 -> 0.11515048 | G27: =FBiH!G28+RS!G26 -> 763 | H27: =G27/G$34*100 -> 0.51271713 | I27: =FBiH!I28+RS!I26 -> 491366 | J27: =I27/I$34*100 -> 0.14049591
A28: 01-18 | B28: NEŽIVOTNA OSIGURANJA | C28: =SUM(C10:C27) -> 117034 | D28: =C28/C$34*100 -> 90.137786 | E28: =SUM(E10:E27) -> 236965582 | F28: =E28/E$34*100 -> 74.051648 | G28: =SUM(G10:G27) -> 135879 | H28: =G28/G$34*100 -> 91.307328 | I28: =SUM(I10:I27)-5 -> 264044009 | J28: =I28/I$34*100 -> 75.497907
A29: 19.01-09 | B29: Životna osiguranja | C29: =FBiH!C30+RS!C28 -> 10827 | D29: =C29/C$34*100 -> 8.3387888 | E29: =FBiH!E30+RS!E28 -> 79502548 | F29: =E29/E$34*100 -> 24.844514 | G29: =FBiH!G30+RS!G28 -> 10609 | H29: =G29/G$34*100 -> 7.1289857 | I29: =FBiH!I30+RS!I28 -> 81611930 | J29: =I29/I$34*100 -> 23.335238
A30: 19.20-29 | B30: Rente | C30: =FBiH!C31+RS!C29 -> 35 | D30: =C30/C$34*100 -> 0.026956461 | E30: =FBiH!E31+RS!E29 -> 286366 | F30: =E30/E$34*100 -> 0.089489259 | G30: =FBiH!G31+RS!G29 -> 53 | H30: =G30/G$34*100 -> 0.035614689 | I30: =FBiH!I31+RS!I29 -> 290987 | J30: =I30/I$34*100 -> 0.083201697
A31: 19.30-39 | B31: Dodatna osiguranja uz osiguranje života | C31: =FBiH!C32+RS!C30 -> 1943 | D31: =C31/C$34*100 -> 1.4964687 | E31: =FBiH!E32+RS!E30 -> 3245919 | F31: =E31/E$34*100 -> 1.0143484 | G31: =FBiH!G32+RS!G30 -> 2274 | H31: =G31/G$34*100 -> 1.5280718 | I31: =FBiH!I32+RS!I30 -> 3789933 | J31: =I31/I$34*100 -> 1.0836527
A32: 19.99 | B32: Druge vrste životnih osiguranja | C32: =FBiH!C33+RS!C31 -> 0 | D32: =C32/C$34*100 -> 0 | E32: =FBiH!E33+RS!E31 -> 0 | F32: =E32/E$34*100 -> 0 | G32: =FBiH!G33+RS!G31 -> 0 | H32: =G32/G$34*100 -> 0 | I32: =FBiH!I33+RS!I31 -> 0 | J32: =I32/I$34*100 -> 0
A33: 19 | B33: ŽIVOTNA OSIGURANJA | C33: =SUM(C29:C32) -> 12805 | D33: =C33/C$34*100 -> 9.862214 | E33: =SUM(E29:E32) -> 83034833 | F33: =E33/E$34*100 -> 25.948352 | G33: =SUM(G29:G32) -> 12936 | H33: =G33/G$34*100 -> 8.6926721 | I33: =SUM(I29:I32) -> 85692850 | J33: =I33/I$34*100 -> 24.502093
A34: 01-19 | B34: NEŽIVOTNA I ŽIVOTNA OSIGURANJA** | C34: =C28+C33 -> 129839 | D34: =D28+D33 -> 100 | E34: =E28+E33 -> 320000415 | F34: =(F28+F33) -> 100 | G34: =G28+G33 -> 148815 | H34: =H28+H33 -> 100 | I34: =I28+I33 -> 349736859 | J34: =(J28+J33) -> 100
A36: *Podaci su dati na osnovu nerevidiranih izvještaja društava za sjedištem u Federaciji Bosne i Hercegovine i Republici Srpskoj.
A37: **Triglav osiguranje a.d. je u 2026. godini promijenilo vrstu poslovanja

Sheet FBiH
A5: BROJ I VRIJEDNOST ISPLAĆENIH ŠTETA PO VRSTAMA OSIGURANJA U FEDERACIJI BOSNE I HERCEGOVINE*
B8: Vrsta osiguranja
A9: Šifra | C9: Broj isplaćenih šteta | D9: Udio | E9: Vrijednost isplaćenih šteta | F9: Udio | G9: Broj isplaćenih šteta | H9: Udio | I9: Vrijednost isplaćenih šteta | J9: Udio
C10: I-VIII-2025 | D10: (%) | E10: I-VIII-2025 | F10: (%) | G10: I-VIII-2026 | H10: (%) | I10: I-VIII-2026 | J10: (%)
A11: 01 | B11: Osiguranje od nezgode | C11: 7153 | D11: =C11/C$35*100 -> 6.8202405 | E11: 10413607 | F11: =E11/E$35*100 -> 4.3965856 | G11: 7619 | H11: =G11/G$35*100 -> 6.1525417 | I11: 11122397 | J11: =I11/I$35*100 -> 4.2251422
A12: 02 | B12: Zdravstveno osiguranje | C12: 28167 | D12: =C12/C$35*100 -> 26.856663 | E12: 6215968 | F12: =E12/E$35*100 -> 2.6243582 | G12: 40561 | H12: =G12/G$35*100 -> 32.754068 | I12: 8177746 | J12: =I12/I$35*100 -> 3.1065372
A13: 03 | B13: Osiguranje cestovnih vozila | C13: 16668 | D13: =C13/C$35*100 -> 15.8926 | E13: 44630100 | F13: =E13/E$35*100 -> 18.84266 | G13: 18662 | H13: =G13/G$35*100 -> 15.070053 | I13: 52788191 | J13: =I13/I$35*100 -> 20.053017
A14: 04 | B14: Osiguranje tračnih vozila | C14: 0 | D14: =C14/C$35*100 -> 0 | E14: 0 | F14: =E14/E$35*100 -> 0 | G14: 0 | H14: =G14/G$35*100 -> 0 | I14: 0 | J14: =I14/I$35*100 -> 0
A15: 05 | B15: Osiguranje zračnih letjelica | C15: 1 | D15: =C15/C$35*100 -> 0.00095347972 | E15: 6845 | F15: =E15/E$35*100 -> 0.0028899332 | G15: 0 | H15: =G15/G$35*100 -> 0 | I15: 0 | J15: =I15/I$35*100 -> 0
A16: 06 | B16: Osiguranje plovila | C16: 0 | D16: =C16/C$35*100 -> 0 | E16: 0 | F16: =E16/E$35*100 -> 0 | G16: 0 | H16: =G16/G$35*100 -> 0 | I16: 0 | J16: =I16/I$35*100 -> 0
A17: 07 | B17: Osiguranje robe u prevozu | C17: 165 | D17: =C17/C$35*100 -> 0.15732415 | E17: 375515 | F17: =E17/E$35*100 -> 0.15854102 | G17: 180 | H17: =G17/G$35*100 -> 0.14535471 | I17: 435551 | J17: =I17/I$35*100 -> 0.16545578
A18: 08 | B18: Osiguranje od požara i elementarnih nepogoda | C18: 1462 | D18: =C18/C$35*100 -> 1.3939874 | E18: 6318759 | F18: =E18/E$35*100 -> 2.6677562 | G18: 1323 | H18: =G18/G$35*100 -> 1.0683571 | I18: 6073355 | J18: =I18/I$35*100 -> 2.3071276
A19: 09 | B19: Ostala osiguranja imovine | C19: 1447 | D19: =C19/C$35*100 -> 1.3796852 | E19: 7300613 | F19: =E19/E$35*100 -> 3.0822912 | G19: 1471 | H19: =G19/G$35*100 -> 1.187871 | I19: 4683935 | J19: =I19/I$35*100 -> 1.7793189
A20: 10 | B20: Osiguranje od odgovornosti za upotrebu motornih vozila | C20: 30648 | D20: =C20/C$35*100 -> 29.222247 | E20: 86879013 | F20: =E20/E$35*100 -> 36.679991 | G20: 33451 | H20: =G20/G$35*100 -> 27.012557 | I20: 103642132 | J20: =I20/I$35*100 -> 39.371257
A21: 11 | B21: Osiguranje od odgovornosti za upotrebu zračnih letjelica | C21: 0 | D21: =C21/C$35*100 -> 0 | E21: 0 | F21: =E21/E$35*100 -> 0 | G21: 0 | H21: =G21/G$35*100 -> 0 | I21: 0 | J21: =I21/I$35*100 -> 0
A22: 12 | B22: Osiguranje od odgovornosti za upotrebu plovila | C22: 0 | D22: =C22/C$35*100 -> 0 | E22: 386 | F22: =E22/E$35*100 -> 0.00016296774 | G22: 0 | H22: =G22/G$35*100 -> 0 | I22: 0 | J22: =I22/I$35*100 -> 0
... A28: 18 | B28: Osiguranje pomoći | C28: 575 | D28: =C28/C$35*100 -> 0.54825084 | E28: 323593 | F28: =E28/E$35*100 -> 0.13661974 | G28: 656 | H28: =G28/G$35*100 -> 0.52973715 | I28: 447029 | J28: =I28/I$35*100 -> 0.16981601
A29: 01-18 | B29: NEŽIVOTNA OSIGURANJA | C29: =SUM(C11:C28) -> 93675 | D29: =C29/C$35*100 -> 89.317213 | E29: =SUM(E11:E28)-2 -> 166487681 | F29: =E29/E$35*100 -> 70.29047 | G29: =SUM(G11:G28) -> 112634 | H29: =G29/G$35*100 -> 90.9549 | I29: =SUM(I11:I28)-3 -> 191675085 | J29: =I29/I$35*100 -> 72.812946
A30: 19.01-09 | B30: Životna osiguranja | C30: 9557 | D30: =C30/C$35*100 -> 9.1124057 | E30: 67789412 | F30: =E30/E$35*100 -> 28.620434 | G30: 9241 | H30: =G30/G$35*100 -> 7.4623491 | I30: 68338953 | J30: =I30/I$35*100 -> 25.960393
A31: 19.20-29 | B31: Rente | C31: 31 | D31: =C31/C$35*100 -> 0.029557871 | E31: 258448 | F31: =E31/E$35*100 -> 0.10911577 | G31: 50 | H31: =G31/G$35*100 -> 0.040376307 | I31: 270354 | J31: =I31/I$35*100 -> 0.10270125
A32: 19.30-39 | B32: Dodatna osiguranja uz osiguranje života | C32: 1616 | D32: =C32/C$35*100 -> 1.5408232 | E32: 2321148 | F32: =E32/E$35*100 -> 0.97997992 | G32: 1910 | H32: =G32/G$35*100 -> 1.5423749 | I32: 2958746 | J32: =I32/I$35*100 -> 1.1239594
A33: 19.99 | B33: Druge vrste životnih osiguranja | C33: 0 | D33: =C33/C$35*100 -> 0 | E33: 0 | F33: =E33/E$35*100 -> 0 | G33: 0 | H33: =G33/G$35*100 -> 0 | I33: 0 | J33: =I33/I$35*100 -> 0
A34: 19 | B34: ŽIVOTNA OSIGURANJA | C34: =SUM(C30:C33) -> 11204 | D34: =C34/C$35*100 -> 10.682787 | E34: =SUM(E30:E33) -> 70369008 | F34: =E34/E$35*100 -> 29.70953 | G34: =SUM(G30:G33) -> 11201 | H34: =G34/G$35*100 -> 9.0451003 | I34: =SUM(I30:I33) -> 71568053 | J34: =I34/I$35*100 -> 27.187054
A35: 01-19 | B35: NEŽIVOTNA I ŽIVOTNA OSIGURANJA | C35: =C29+C34 -> 104879 | D35: =D29+D34 -> 100 | E35: =E29+E34 -> 236856689 | F35: =F29+F34 -> 100 | G35: =G29+G34 -> 123835 | H35: =H29+H34 -> 100 | I35: =I29+I34 -> 263243138 | J35: =J29+J34 -> 100
A37: *Podaci su dati na osnovu nerevidiranih izvještaja društava za sjedištem u Federaciji Bosne i Hercegovine.

Sheet RS
A4: BROJ I VRIJEDNOST ISPLAĆENIH ŠTETA PO VRSTAMA OSIGURANJA U REPUBLICI SRPSKOJ*
B6: Vrsta osiguranja
A7: Šifra | C7: Broj isplaćenih šteta | D7: Udio | E7: Vrijednost isplaćenih šteta | F7: Udio | G7: Broj isplaćenih šteta | H7: Udio | I7: Vrijednost isplaćenih šteta | J7: Udio
C8: I-VIII-2025 | D8: (%) | E8: I-VIII-2025 | F8: (%) | G8: I-VIII-2026 | H8: (%) | I8: I-VIII-2026 | J8: (%)
A9: 01 | B9: Osiguranje od nezgode | C9: 3876 | D9: 16.375301 | E9: 4859171 | F9: 5.1349822 | G9: 3524 | H9: =G9/G$33*100 -> 14.107286 | I9: 4943166 | J9: =I9/I$33*100 -> 5.7150576
A10: 02 | B10: Zdravstveno osiguranje | C10: 1070 | D10: 3.8813152 | E10: 902969 | F10: 1.067239 | G10: 806 | H10: =G10/G$33*100 -> 3.2265813 | I10: 789478 | J10: =I10/I$33*100 -> 0.91275758
A11: 03 | B11: Osiguranje cestovnih vozila | C11: 4238 | D11: 17.642342 | E11: 9937615 | F11: 12.082789 | G11: 3988 | H11: =G11/G$33*100 -> 15.964772 | I11: 10457323 | J11: =I11/I$33*100 -> 12.090268
A12: 04 | B12: Osiguranje tračnih vozila | C12: 0 | D12: 0 | E12: 0 | F12: 0 | G12: 0 | H12: =G12/G$33*100 -> 0 | I12: 0 | J12: =I12/I$33*100 -> 0
A13: 05 | B13: Osiguranje zračnih letjelica | C13: 0 | D13: 0 | E13: 0 | F13: 0 | G13: 0 | H13: =G13/G$33*100 -> 0 | I13: 0 | J13: =I13/I$33*100 -> 0
A14: 06 | B14: Osiguranje plovila | C14: 0 | D14: 0 | E14: 0 | F14: 0 | G14: 0 | H14: =G14/G$33*100 -> 0 | I14: 0 | J14: =I14/I$33*100 -> 0
A15: 07 | B15: Osiguranje robe u prevozu | C15: 4 | D15: 0 | E15: 133891 | F15: 0 | G15: 5 | H15: =G15/G$33*100 -> 0.020016013 | I15: 3744 | J15: =I15/I$33*100 -> 0.0043286379
A16: 08 | B16: Osiguranje od požara i elementarnih nepogoda | C16: 206 | D16: 0.70569366 | E16: 5595819 | F16: 16.2995 | G16: 150 | H16: =G16/G$33*100 -> 0.60048038 | I16: 1630505 | J16: =I16/I$33*100 -> 1.8851137
A17: 09 | B17: Ostala osiguranja imovine | C17: 667 | D17: 2.9831596 | E17: 1950421 | F17: 2.3713029 | G17: 500 | H17: =G17/G$33*100 -> 2.0016013 | I17: 1428226 | J17: =I17/I$33*100 -> 1.6512482
A18: 10 | B18: Osiguranje od odgovornosti za upotrebu motornih vozila | C18: 12841 | D18: 52.173216 | E18: 46371321 | F18: 51.267208 | G18: 13696 | H18: =G18/G$33*100 -> 54.827862 | I18: 52273055 | J18: =I18/I$33*100 -> 60.435664
A19: 11 | B19: Osiguranje od odgovornosti za upotrebu zračnih letjelica | C19: 0 | D19: 0 | E19: 0 | F19: 0 | G19: 0 | H19: =G19/G$33*100 -> 0 | I19: 0 | J19: =I19/I$33*100 -> 0
A20: 12 | B20: Osiguranje od odgovornosti za upotrebu plovila | C20: 0 | D20: 0 | E20: 0 | F20: 0 | G20: 0 | H20: =G20/G$33*100 -> 0 | I20: 0 | J20: =I20/I$33*100 -> 0
... A26: 18 | B26: Osiguranje pomoći | C26: 106 | D26: 0.36888532 | E26: 44889 | F26: 0.036104175 | G26: 107 | H26: =G26/G$33*100 -> 0.42834267 | I26: 44337 | J26: =I26/I$33*100 -> 0.051260368
A27: 01-18 | B27: NEŽIVOTNA OSIGURANJA | C27: =SUM(C9:C26) -> 23359 | D27: 95.124298 | E27: =SUM(E9:E26)+1 -> 70477900 | F27: 88.992853 | G27: =SUM(G9:G26) -> 23245 | H27: =G27/G$33*100 -> 93.054444 | I27: =SUM(I9:I26)-2 -> 72368924 | J27: =I27/I$33*100 -> 83.669569
A28: 19.01-09 | B28: Životna osiguranja | C28: 1270 | D28: 4.202085 | E28: 11713136 | F28: 10.286822 | G28: 1368 | H28: =G28/G$33*100 -> 5.4763811 | I28: 13272977 | J28: =I28/I$33*100 -> 15.345596
A29: 19.20-29 | B29: Rente | C29: 4 | D29: 0.016038492 | E29: 27918 | F29: 0.026225331 | G29: 3 | H29: =G29/G$33*100 -> 0.012009608 | I29: 20633 | J29: =I29/I$33*100 -> 0.023854911
A30: 19.30-39 | B30: Dodatna osiguranja uz osiguranje života | C30: 327 | D30: 0.65757819 | E30: 924771 | F30: 0.69409946 | G30: 364 | H30: =G30/G$33*100 -> 1.4571657 | I30: 831187 | J30: =I30/I$33*100 -> 0.96097957
A31: 19.99 | B31: Druge vrste životnih osiguranja | C31: 0 | D31: 0 | E31: 0 | F31: 0 | G31: 0 | H31: =G31/G$33*100 -> 0 | I31: 0 | J31: =I31/I$33*100 -> 0
A32: 19 | B32: ŽIVOTNA OSIGURANJA | C32: =SUM(C28:C31) -> 1601 | D32: 4.8757017 | E32: =SUM(E28:E31)+1 -> 12665826 | F32: 11.007147 | G32: =SUM(G28:G31) -> 1735 | H32: =G32/G$33*100 -> 6.9455564 | I32: =SUM(I28:I31) -> 14124797 | J32: =I32/I$33*100 -> 16.33043
A33: 01-19 | B33: NEŽIVOTNA I ŽIVOTNA OSIGURANJA** | C33: =SUM(C27,C32) -> 24960 | D33: 100 | E33: =SUM(E27,E32)-1 -> 83143725 | F33: 100 | G33: =G27+G32 -> 24980 | H33: 100 | I33: =(I27+I32)+1 -> 86493722 | J33: 100
A35: *Podaci su dati na osnovu nerevidiranih izvještaja društava za sjedištem u Republici Srpskoj.
A36: **Triglav osiguranje a.d. je u 2026. godini promijenilo vrstu poslovanja
