Workbook

Sheet BiH
C5: BROJ I VRIJEDNOST ISPLAĆENIH ŠTETA PO DRUŠTVIMA ZA OSIGURANJE U BOSNI I HERCEGOVINI*
B8: Društvo za osiguranje | C8: NEŽIVOTNO OSIGURANJE | G8: ŽIVOTNO OSIGURANJE | K8: NEŽIVOTNO I ŽIVOTNO OSIGURANJE
C9: Broj isplaćenih šteta | E9: Vrijednost isplaćenih šteta | G9: Broj isplaćenih šteta | I9: Vrijednost isplaćenih šteta | K9: Broj isplaćenih šteta | M9: Vrijednost isplaćenih šteta
C10: I-VIII-2026 | D10: Udio (%) | E10: I-VIII-2026 | F10: Udio (%) | G10: I-VIII-2026 | H10: Udio (%) | I10: I-VIII-2026 | J10: Udio (%) | K10: I-VIII-2026 | L10: Udio (%) | M10: I-VIII-2026 | N10: Udio (%)
A11: 1. | B11: Adriatic osiguranje d.d. | C11: =FBiH!C11 -> 18254 | D11: =C11/C$34*100 -> 13.434011 | E11: =FBiH!E11 -> 33574757 | F11: =E11/E$34*100 -> 12.715591 | G11: =FBiH!G11 -> 427 | H11: =G11/G$34*100 -> 3.3008658 | I11: =FBiH!I11 -> 4805396 | J11: =I11/I$34*100 -> 5.6076977 | K11: =FBiH!K11 -> 18681 | L11: =K11/K$34*100 -> 12.55317 | M11: =E11+I11 -> 38380153 | N11: =M11/M$34*100 -> 10.974009
A12: 2. | B12: ASA Central osiguranje d.d. | C12: =FBiH!C12 -> 32147 | D12: =C12/C$34*100 -> 23.658549 | E12: =FBiH!E12 -> 48574668 | F12: =E12/E$34*100 -> 18.396429 | G12: =FBiH!G12 -> 0 | H12: =G12/G$34*100 -> 0 | I12: =FBiH!I12 -> 0 | J12: =I12/I$34*100 -> 0 | K12: =FBiH!K12 -> 32147 | L12: =K12/K$34*100 -> 21.601989 | M12: =E12+I12 -> 48574668 | N12: =M12/M$34*100 -> 13.888919
A13: 3. | B13: Brčko-gas osiguranje d.d. | C13: =RS!C11 -> 1356 | D13: =C13/C$34*100 -> 0.9979467 | E13: =RS!E11 -> 4810359 | F13: =E13/E$34*100 -> 1.821802 | G13: =RS!G11 -> 0 | H13: =G13/G$34*100 -> 0 | I13: =RS!I11 -> 0 | J13: =I13/I$34*100 -> 0 | K13: =RS!K11 -> 1356 | L13: =K13/K$34*100 -> 0.91119847 | M13: =E13+I13 -> 4810359 | N13: =M13/M$34*100 -> 1.3754224
A14: 4. | B14: Camelija osiguranje d.d. | C14: =FBiH!C13 -> 3448 | D14: =C14/C$34*100 -> 2.5375518 | E14: =FBiH!E13 -> 11479338 | F14: =E14/E$34*100 -> 4.3475094 | G14: =FBiH!G13 -> 0 | H14: =G14/G$34*100 -> 0 | I14: =FBiH!I13 -> 0 | J14: =I14/I$34*100 -> 0 | K14: =FBiH!K13 -> 3448 | L14: =K14/K$34*100 -> 2.3169707 | M14: =E14+I14 -> 11479338 | N14: =M14/M$34*100 -> 3.2822786
A15: 5. | B15: Croatia osiguranje d.d. | C15: =FBiH!C14 -> 6339 | D15: =C15/C$34*100 -> 4.66518 | E15: =FBiH!E14 -> 14758487 | F15: =E15/E$34*100 -> 5.5894042 | G15: =FBiH!G14 -> 276 | H15: =G15/G$34*100 -> 2.1335807 | I15: =FBiH!I14 -> 2413645 | J15: =I15/I$34*100 -> 2.8166236 | K15: =FBiH!K14 -> 6615 | L15: =K15/K$34*100 -> 4.4451164 | M15: =E15+I15 -> 17172132 | N15: =M15/M$34*100 -> 4.9100149
A16: 6. | B16: Drina osiguranje a.d. | C16: =RS!C12 -> 2163 | D16: =C16/C$34*100 -> 1.5918575 | E16: =RS!E12 -> 7504682 | F16: =E16/E$34*100 -> 2.8422088 | G16: =RS!G12 -> 0 | H16: =G16/G$34*100 -> 0 | I16: =RS!I12 -> 0 | J16: =I16/I$34*100 -> 0 | K16: =RS!K12 -> 2163 | L16: =K16/K$34*100 -> 1.4534825 | M16: =E16+I16 -> 7504682 | N16: =M16/M$34*100 -> 2.1458081
A17: 7. | B17: Dunav osiguranje a.d. | C17: =RS!C13 -> 3260 | D17: =C17/C$34*100 -> 2.3991934 | E17: =RS!E13 -> 11291658 | F17: =E17/E$34*100 -> 4.2764303 | G17: =RS!G13 -> 0 | H17: =G17/G$34*100 -> 0 | I17: =RS!I13 -> 0 | J17: =I17/I$34*100 -> 0 | K17: =RS!K13 -> 3260 | L17: =K17/K$34*100 -> 2.1906394 | M17: =E17+I17 -> 11291658 | N17: =M17/M$34*100 -> 3.2286154
A18: 8. | B18: Euroherc osiguranje d.d. | C18: =FBiH!C15 -> 12400 | D18: =C18/C$34*100 -> 9.1257663 | E18: =FBiH!E15 -> 28727245 | F18: =E18/E$34*100 -> 10.879719 | G18: =FBiH!G15 -> 0 | H18: =G18/G$34*100 -> 0 | I18: =FBiH!I15 -> 0 | J18: =I18/I$34*100 -> 0 | K18: =FBiH!K15 -> 12400 | L18: =K18/K$34*100 -> 8.3324934 | M18: =E18+I18 -> 28727245 | N18: =M18/M$34*100 -> 8.2139598
A19: 9. | B19: Euros osiguranje a.d. | C19: =RS!C14 -> 1322 | D19: =C19/C$34*100 -> 0.97292444 | E19: =RS!E14 -> 4032962 | F19: =E19/E$34*100 -> 1.5273825 | G19: =RS!G14 -> 0 | H19: =G19/G$34*100 -> 0 | I19: =RS!I14 -> 0 | J19: =I19/I$34*100 -> 0 | K19: =RS!K14 -> 1322 | L19: =K19/K$34*100 -> 0.88835131 | M19: =E19+I19 -> 4032962 | N19: =M19/M$34*100 -> 1.1531418
A20: 10. | B20: Grawe osiguranje a.d. | C20: =RS!C15 -> 1197 | D20: =C20/C$34*100 -> 0.88093083 | E20: =RS!E15 -> 3559104 | F20: =E20/E$34*100 -> 1.3479208 | G20: =RS!G15 -> 1485 | H20: =G20/G$34*100 -> 11.479592 | I20: =RS!I15 -> 12539715 | J20: =I20/I$34*100 -> 14.633327 | K20: =RS!K15 -> 2682 | L20: =K20/K$34*100 -> 1.8022377 | M20: =E20+I20 -> 16098819 | N20: =M20/M$34*100 -> 4.6031233
A21: 11. | B21: Grawe osiguranje d.d. | C21: =FBiH!C16 -> 3580 | D21: =C21/C$34*100 -> 2.634697 | E21: =FBiH!E16 -> 7617898 | F21: =E21/E$34*100 -> 2.8850865 | G21: =FBiH!G16 -> 1712 | H21: =G21/G$34*100 -> 13.234385 | I21: =FBiH!I16 -> 14882649 | J21: =I21/I$34*100 -> 17.367434 | K21: =FBiH!K16 -> 5292 | L21: =K21/K$34*100 -> 3.5560931 | M21: =E21+I21 -> 22500547 | N21: =M21/M$34*100 -> 6.4335647
A22: 12. | B22: Krajina osiguranje a.d. | C22: =RS!C16 -> 1002 | D22: =C22/C$34*100 -> 0.73742079 | E22: =RS!E16 -> 3681463 | F22: =E22/E$34*100 -> 1.3942611 | G22: =RS!G16 -> 0 | H22: =G22/G$34*100 -> 0 | I22: =RS!I16 -> 0 | J22: =I22/I$34*100 -> 0 | K22: =RS!K16 -> 1002 | L22: =K22/K$34*100 -> 0.67331922 | M22: =E22+I22 -> 3681463 | N22: =M22/M$34*100 -> 1.052638
A23: 13. | B23: Mikrofin osiguranje a.d. | C23: =RS!C17 -> 2644 | D23: =C23/C$34*100 -> 1.9458489 | E23: =RS!E17 -> 8065508 | F23: =E23/E$34*100 -> 3.0546075 | G23: =RS!G17 -> 0 | H23: =G23/G$34*100 -> 0 | I23: =RS!I17 -> 0 | J23: =I23/I$34*100 -> 0 | K23: =RS!K17 -> 2644 | L23: =K23/K$34*100 -> 1.7767026 | M23: =E23+I23 -> 8065508 | N23: =M23/M$34*100 -> 2.3061647
A24: 14. | B24: Nešković osiguranje a.d. | C24: =RS!C18 -> 980 | D24: =C24/C$34*100 -> 0.72122992 | E24: =RS!E18 -> 4074075 | F24: =E24/E$34*100 -> 1.542953 | G24: =RS!G18 -> 0 | H24: =G24/G$34*100 -> 0 | I24: =RS!I18 -> 0 | J24: =I24/I$34*100 -> 0 | K24: =RS!K18 -> 980 | L24: =K24/K$34*100 -> 0.65853577 | M24: =E24+I24 -> 4074075 | N24: =M24/M$34*100 -> 1.1648972
A25: 15. | B25: Osiguranje Aura a.d. | C25: =RS!C19 -> 2263 | D25: =C25/C$34*100 -> 1.6654524 | E25: =RS!E19 -> 7007160 | F25: =E25/E$34*100 -> 2.6537849 | G25: =RS!G19 -> 0 | H25: =G25/G$34*100 -> 0 | I25: =RS!I19 -> 0 | J25: =I25/I$34*100 -> 0 | K25: =RS!K19 -> 2263 | L25: =K25/K$34*100 -> 1.52068 | M25: =E25+I25 -> 7007160 | N25: =M25/M$34*100 -> 2.003552
A26: 16. | B26: Osiguranje Garant d.d. | C26: =RS!C20 -> 1049 | D26: =C26/C$34*100 -> 0.77201039 | E26: =RS!E20 -> 3466899 | F26: =E26/E$34*100 -> 1.3130004 | G26: =RS!G20 -> 0 | H26: =G26/G$34*100 -> 0 | I26: =RS!I20 -> 0 | J26: =I26/I$34*100 -> 0 | K26: =RS!K20 -> 1049 | L26: =K26/K$34*100 -> 0.70490206 | M26: =E26+I26 -> 3466899 | N26: =M26/M$34*100 -> 0.99128785
A27: 17. | B27: Premium osiguranje a.d. | C27: =RS!C21 -> 2878 | D27: =C27/C$34*100 -> 2.1180609 | E27: =RS!E21 -> 7653344 | F27: =E27/E$34*100 -> 2.8985108 | G27: =RS!G21 -> 0 | H27: =G27/G$34*100 -> 0 | I27: =RS!I21 -> 0 | J27: =I27/I$34*100 -> 0 | K27: =RS!K21 -> 2878 | L27: =K27/K$34*100 -> 1.9339448 | M27: =E27+I27 -> 7653344 | N27: =M27/M$34*100 -> 2.188315
A28: 18. | B28: Sarajevo-osiguranje d.d. | C28: =FBiH!C17 -> 8578 | D28: =C28/C$34*100 -> 6.3129696 | E28: =FBiH!E17 -> 21724973 | F28: =E28/E$34*100 -> 8.2277849 | G28: =FBiH!G17 -> 400 | H28: =G28/G$34*100 -> 3.0921459 | I28: =FBiH!I17 -> 1892277 | J28: =I28/I$34*100 -> 2.2082087 | K28: =FBiH!K17 -> 8978 | L28: =K28/K$34*100 -> 6.032994 | M28: =E28+I28 -> 23617250 | N28: =M28/M$34*100 -> 6.7528627
A29: 19. | B29: SAS - Super P osiguranje a.d. | C29: =RS!C22 -> 236 | D29: =C29/C$34*100 -> 0.17368394 | E29: =RS!E22 -> 854559 | F29: =E29/E$34*100 -> 0.32364264 | G29: =RS!G22 -> 0 | H29: =G29/G$34*100 -> 0 | I29: =RS!I22 -> 0 | J29: =I29/I$34*100 -> 0 | K29: =RS!K22 -> 236 | L29: =K29/K$34*100 -> 0.15858616 | M29: =E29+I29 -> 854559 | N29: =M29/M$34*100 -> 0.24434342
A30: 20. | B30: Triglav osiguranje d.d. | C30: =FBiH!C18 -> 9827 | D30: =C30/C$34*100 -> 7.2321698 | E30: =FBiH!E18 -> 15058268 | F30: =E30/E$34*100 -> 5.7029387 | G30: =FBiH!G18 -> 2952 | H30: =G30/G$34*100 -> 22.820037 | I30: =FBiH!I18 -> 9552645 | J30: =I30/I$34*100 -> 11.14754 | K30: =FBiH!K18 -> 12779 | L30: =K30/K$34*100 -> 8.587172 | M30: =E30+I30 -> 24610913 | N30: =M30/M$34*100 -> 7.0369801
A31: 21. | B31: Uniqa osiguranje d.d. | C31: =FBiH!C19 -> 16854 | D31: =C31/C$34*100 -> 12.403683 | E31: =FBiH!E19 -> 9512233 | F31: =E31/E$34*100 -> 3.602518 | G31: =FBiH!G19 -> 2691 | H31: =G31/G$34*100 -> 20.802412 | I31: =FBiH!I19 -> 17191855 | J31: =I31/I$34*100 -> 20.062181 | K31: =FBiH!K19 -> 19545 | L31: =K31/K$34*100 -> 13.133757 | M31: =E31+I31 -> 26704088 | N31: =M31/M$34*100 -> 7.63548
A32: 22. | B32: Vienna osiguranje d.d. | C32: =FBiH!C20 -> 1207 | D32: =C32/C$34*100 -> 0.88829032 | E32: =FBiH!E20 -> 647218 | F32: =E32/E$34*100 -> 0.24511747 | G32: =FBiH!G20 -> 2743 | H32: =G32/G$34*100 -> 21.204391 | I32: =FBiH!I20 -> 20829586 | J32: =I32/I$34*100 -> 24.307263 | K32: =FBiH!K20 -> 3950 | L32: =K32/K$34*100 -> 2.6543023 | M32: =E32+I32 -> 21476804 | N32: =M32/M$34*100 -> 6.1408466
A33: 23. | B33: Wiener osiguranje a.d. | C33: =RS!C23 -> 2895 | D33: =C33/C$34*100 -> 2.1305721 | E33: =RS!E23 -> 6367151 | F33: =E33/E$34*100 -> 2.4113976 | G33: =RS!G23 -> 250 | H33: =G33/G$34*100 -> 1.9325912 | I33: =RS!I23 -> 1585082 | J33: =I33/I$34*100 -> 1.8497249 | K33: =RS!K23 -> 3145 | L33: =K33/K$34*100 -> 2.1133622 | M33: =E33+I33 -> 7952233 | N33: =M33/M$34*100 -> 2.2737761
B34: Ukupno: | C34: =SUM(C11:C33) -> 135879 | D34: =SUM(D11:D33) -> 100 | E34: =SUM(E11:E33) -> 264044009 | F34: =SUM(F11:F33) -> 100 | G34: =SUM(G11:G33) -> 12936 | H34: =SUM(H11:H33) -> 100 | I34: =SUM(I11:I33) -> 85692850 | J34: =SUM(J11:J33) -> 100 | ... N34: =SUM(N11:N33) -> 100
A36: *Podaci su dati na osnovu nerevidiranih izvještaja društava sa sjedištem u Federaciji Bosne i Hercegovine i Republici Srpskoj.

Sheet FBiH
A6: BROJ I VRIJEDNOST ISPLAĆENIH ŠTETA PO DRUŠTVIMA ZA OSIGURANJE U FEDERACIJI BOSNE I HERCEGOVINE*
B8: Društvo za osiguranje | C8: NEŽIVOTNO OSIGURANJE | G8: ŽIVOTNO OSIGURANJE | K8: NEŽIVOTNO I ŽIVOTNO OSIGURANJE
C9: Broj isplaćenih šteta | E9: Vrijednost isplaćenih šteta | G9: Broj isplaćenih šteta | I9: Vrijednost isplaćenih šteta | K9: Broj isplaćenih šteta | M9: Vrijednost isplaćenih šteta
C10: I-VIII-2026 | D10: Udio (%) | E10: I-VIII-2026 | F10: Udio (%) | G10: I-VIII-2026 | H10: Udio (%) | I10: I-VIII-2026 | J10: Udio (%) | K10: I-VIII-2026 | L10: Udio (%) | M10: I-VIII-2026 | N10: Udio (%)
A11: 1. | B11: Adriatic osiguranje d.d. | C11: 18254 | D11: =C11/C$21*100 -> 16.206474 | E11: 33574757 | F11: =E11/E$21*100 -> 17.516495 | G11: 427 | H11: =G11/G$21*100 -> 3.8121596 | I11: 4805396 | J11: =I11/I$21*100 -> 6.7144428 | K11: =C11+G11 -> 18681 | L11: =K11/K$21*100 -> 15.085396 | M11: =E11+I11 -> 38380153 | N11: =M11/M$21*100 -> 14.579735
A12: 2. | B12: ASA Central osiguranje d.d. | C12: 32147 | D12: =C12/C$21*100 -> 28.541115 | E12: 48574668 | F12: =E12/E$21*100 -> 25.342192 | G12: 0 | H12: =G12/G$21*100 -> 0 | I12: 0 | J12: =I12/I$21*100 -> 0 | K12: =C12+G12 -> 32147 | L12: =K12/K$21*100 -> 25.959543 | M12: =E12+I12 -> 48574668 | N12: =M12/M$21*100 -> 18.452397
A13: 3. | B13: Camelija osiguranje d.d. | C13: 3448 | D13: =C13/C$21*100 -> 3.0612426 | E13: 11479338 | F13: =E13/E$21*100 -> 5.9889568 | G13: 0 | H13: =G13/G$21*100 -> 0 | I13: 0 | J13: =I13/I$21*100 -> 0 | K13: =C13+G13 -> 3448 | L13: =K13/K$21*100 -> 2.7843501 | M13: =E13+I13 -> 11479338 | N13: =M13/M$21*100 -> 4.3607359
A14: 4. | B14: Croatia osiguranje d.d. | C14: 6339 | D14: =C14/C$21*100 -> 5.6279631 | E14: 14758487 | F14: =E14/E$21*100 -> 7.699742 | G14: 276 | H14: =G14/G$21*100 -> 2.4640657 | I14: 2413645 | J14: =I14/I$21*100 -> 3.3725173 | K14: =C14+G14 -> 6615 | L14: =K14/K$21*100 -> 5.3417854 | M14: =E14+I14 -> 17172132 | N14: =M14/M$21*100 -> 6.5232971
A15: 5. | B15: Euroherc osiguranje d.d. | C15: 12400 | D15: =C15/C$21*100 -> 11.009109 | E15: 28727245 | F15: =E15/E$21*100 -> 14.98747 | G15: 0 | H15: =G15/G$21*100 -> 0 | I15: 0 | J15: =I15/I$21*100 -> 0 | K15: =C15+G15 -> 12400 | L15: =K15/K$21*100 -> 10.013324 | M15: =E15+I15 -> 28727245 | N15: =M15/M$21*100 -> 10.912818
A16: 6. | B16: Grawe osiguranje d.d. | C16: 3580 | D16: =C16/C$21*100 -> 3.1784364 | E16: 7617898 | F16: =E16/E$21*100 -> 3.9743809 | G16: 1712 | H16: =G16/G$21*100 -> 15.28435 | I16: 14882649 | J16: =I16/I$21*100 -> 20.795101 | K16: =C16+G16 -> 5292 | L16: =K16/K$21*100 -> 4.2734284 | M16: =E16+I16 -> 22500547 | N16: =M16/M$21*100 -> 8.5474391
A17: 7. | B17: Sarajevo-osiguranje d.d. | C17: 8578 | D17: =C17/C$21*100 -> 7.6158176 | E17: 21724973 | F17: =E17/E$21*100 -> 11.334271 | G17: 400 | H17: =G17/G$21*100 -> 3.5711097 | I17: 1892277 | J17: =I17/I$21*100 -> 2.6440247 | K17: =C17+G17 -> 8978 | L17: =K17/K$21*100 -> 7.2499697 | M17: =E17+I17 -> 23617250 | N17: =M17/M$21*100 -> 8.9716489
A18: 8. | B18: Triglav osiguranje d.d. | C18: 9827 | D18: =C18/C$21*100 -> 8.724719 | E18: 15058268 | F18: =E18/E$21*100 -> 7.8561426 | G18: 2952 | H18: =G18/G$21*100 -> 26.35479 | I18: 9552645 | J18: =I18/I$21*100 -> 13.347639 | K18: =C18+G18 -> 12779 | L18: =K18/K$21*100 -> 10.319377 | M18: =E18+I18 -> 24610913 | N18: =M18/M$21*100 -> 9.3491185
A19: 9. | B19: Uniqa osiguranje d.d. | C19: 16854 | D19: =C19/C$21*100 -> 14.96351 | E19: 9512233 | F19: =E19/E$21*100 -> 4.9626862 | G19: 2691 | H19: =G19/G$21*100 -> 24.024641 | I19: 17191855 | J19: =I19/I$21*100 -> 24.021689 | K19: =C19+G19 -> 19545 | L19: =K19/K$21*100 -> 15.783098 | M19: =E19+I19 -> 26704088 | N19: =M19/M$21*100 -> 10.144267
A20: 10. | B20: Vienna osiguranje d.d. | C20: 1207 | D20: =C20/C$21*100 -> 1.0716125 | E20: 647218 | F20: =E20/E$21*100 -> 0.33766413 | G20: 2743 | H20: =G20/G$21*100 -> 24.488885 | I20: 20829586 | J20: =I20/I$21*100 -> 29.104587 | K20: =C20+G20 -> 3950 | L20: =K20/K$21*100 -> 3.1897283 | M20: =E20+I20 -> 21476804 | N20: =M20/M$21*100 -> 8.1585428
B21: Ukupno: | C21: =SUM(C11:C20) -> 112634 | D21: =SUM(D11:D20) -> 100 | E21: =SUM(E11:E20) -> 191675085 | F21: =SUM(F11:F20) -> 100 | G21: =SUM(G11:G20) -> 11201 | H21: =SUM(H11:H20) -> 100 | I21: =SUM(I11:I20) -> 71568053 | J21: =SUM(J11:J20) -> 100 | ... N21: =SUM(N11:N20) -> 100
A23: *Podaci su dati na osnovu nerevidiranih izvještaja društava sa sjedištem u Federaciji Bosne i Hercegovine.

Sheet RS
C5: BROJ I VRIJEDNOST ISPLAĆENIH ŠTETA PO DRUŠTVIMA ZA OSIGURANJE U REPUBLICI SRPSKOJ*
B8: Društvo za osiguranje | C8: NEŽIVOTNO OSIGURANJE | G8: ŽIVOTNO OSIGURANJE | K8: NEŽIVOTNO I ŽIVOTNO OSIGURANJE
C9: Broj isplaćenih šteta | E9: Vrijednost isplaćenih šteta | G9: Broj isplaćenih šteta | I9: Vrijednost isplaćenih šteta | K9: Broj isplaćenih šteta | M9: Vrijednost isplaćenih šteta
C10: I-VIII-2026 | D10: Udio (%) | E10: I-VIII-2026 | F10: Udio (%) | G10: I-VIII-2026 | H10: Udio (%) | I10: I-VIII-2026 | J10: Udio (%) | K10: I-VIII-2026 | L10: Udio (%) | M10: I-VIII-2026 | N10: Udio (%)
A11: 1. | B11: Brčko-gas osiguranje d.d. | C11: 1356 | D11: =C11/C$24*100 -> 5.8335126 | E11: 4810359 | F11: =E11/E$24*100 -> 6.6469953 | G11: 0 | H11: =G11/G$24*100 -> 0 | I11: 0 | J11: =I11/I$24*100 -> 0 | K11: =C11+G11 -> 1356 | L11: =K11/K$24*100 -> 5.4283427 | M11: =E11+I11 -> 4810359 | N11: =M11/M$24*100 -> 5.5615123
A12: 2. | B12: Drina osiguranje a.d. | C12: 2163 | D12: =C12/C$24*100 -> 9.3052269 | E12: 7504682 | F12: =E12/E$24*100 -> 10.370034 | G12: 0 | H12: =G12/G$24*100 -> 0 | I12: 0 | J12: =I12/I$24*100 -> 0 | K12: =C12+G12 -> 2163 | L12: =K12/K$24*100 -> 8.6589271 | M12: =E12+I12 -> 7504682 | N12: =M12/M$24*100 -> 8.6765627
A13: 3. | B13: Dunav osiguranje a.d. | C13: 3260 | D13: =C13/C$24*100 -> 14.024521 | E13: 11291658 | F13: =E13/E$24*100 -> 15.60291 | G13: 0 | H13: =G13/G$24*100 -> 0 | I13: 0 | J13: =I13/I$24*100 -> 0 | K13: =C13+G13 -> 3260 | L13: =K13/K$24*100 -> 13.05044 | M13: =E13+I13 -> 11291658 | N13: =M13/M$24*100 -> 13.054887
A14: 4. | B14: Euros osiguranje a.d. | C14: 1322 | D14: =C14/C$24*100 -> 5.6872446 | E14: 4032962 | F14: =E14/E$24*100 -> 5.5727815 | G14: 0 | H14: =G14/G$24*100 -> 0 | I14: 0 | J14: =I14/I$24*100 -> 0 | K14: =C14+G14 -> 1322 | L14: =K14/K$24*100 -> 5.2922338 | M14: =E14+I14 -> 4032962 | N14: =M14/M$24*100 -> 4.6627222
A15: 5. | B15: Grawe osiguranje a.d. | C15: 1197 | D15: =C15/C$24*100 -> 5.1494945 | E15: 3559104 | F15: =E15/E$24*100 -> 4.9180004 | G15: 1485 | H15: =G15/G$24*100 -> 85.590778 | I15: 12539715 | J15: =I15/I$24*100 -> 88.778019 | K15: =C15+G15 -> 2682 | L15: =K15/K$24*100 -> 10.736589 | M15: =(E15+I15) -> 16098819 | N15: =M15/M$24*100 -> 18.612702
A16: 6. | B16: Krajina osiguranje a.d. | C16: 1002 | D16: =C16/C$24*100 -> 4.3106044 | E16: 3681463 | F16: =E16/E$24*100 -> 5.0870772 | G16: 0 | H16: =G16/G$24*100 -> 0 | I16: 0 | J16: =I16/I$24*100 -> 0 | K16: =C16+G16 -> 1002 | L16: =K16/K$24*100 -> 4.011209 | M16: =E16+I16 -> 3681463 | N16: =M16/M$24*100 -> 4.2563355
A17: 7. | B17: Mikrofin osiguranje a.d. | C17: 2644 | D17: =C17/C$24*100 -> 11.374489 | E17: 8065508 | F17: =E17/E$24*100 -> 11.144988 | G17: 0 | H17: =G17/G$24*100 -> 0 | I17: 0 | J17: =I17/I$24*100 -> 0 | K17: =C17+G17 -> 2644 | L17: =K17/K$24*100 -> 10.584468 | M17: =E17+I17 -> 8065508 | N17: =M17/M$24*100 -> 9.3249635
A18: 8. | B18: Nešković osiguranje a.d. | C18: 980 | D18: =C18/C$24*100 -> 4.2159604 | E18: 4074075 | F18: =E18/E$24*100 -> 5.6295918 | G18: 0 | H18: =G18/G$24*100 -> 0 | I18: 0 | J18: =I18/I$24*100 -> 0 | K18: =C18+G18 -> 980 | L18: =K18/K$24*100 -> 3.9231385 | M18: =E18+I18 -> 4074075 | N18: =M18/M$24*100 -> 4.7102552
A19: 9. | B19: Osiguranje Aura a.d. | C19: 2263 | D19: =C19/C$24*100 -> 9.735427 | E19: 7007160 | F19: =E19/E$24*100 -> 9.6825538 | G19: 0 | H19: =G19/G$24*100 -> 0 | I19: 0 | J19: =I19/I$24*100 -> 0 | K19: =C19+G19 -> 2263 | L19: =K19/K$24*100 -> 9.0592474 | M19: =E19+I19 -> 7007160 | N19: =M19/M$24*100 -> 8.101351
A20: 10. | B20: Osiguranje Garant d.d. | C20: 1049 | D20: =C20/C$24*100 -> 4.5127985 | E20: 3466899 | F20: =E20/E$24*100 -> 4.7905908 | G20: 0 | H20: =G20/G$24*100 -> 0 | I20: 0 | J20: =I20/I$24*100 -> 0 | K20: =C20+G20 -> 1049 | L20: =K20/K$24*100 -> 4.1993595 | M20: =E20+I20 -> 3466899 | N20: =M20/M$24*100 -> 4.0082666
A21: 11. | B21: Premium osiguranje a.d. | C21: 2878 | D21: =C21/C$24*100 -> 12.381157 | E21: 7653344 | F21: =E21/E$24*100 -> 10.575456 | G21: 0 | H21: =G21/G$24*100 -> 0 | I21: 0 | J21: =I21/I$24*100 -> 0 | K21: =C21+G21 -> 2878 | L21: =K21/K$24*100 -> 11.521217 | M21: =E21+I21 -> 7653344 | N21: =M21/M$24*100 -> 8.8484387
A22: 12. | B22: SAS - Super P osiguranje a.d. | C22: 236 | D22: =C22/C$24*100 -> 1.0152721 | E22: 854559 | F22: =E22/E$24*100 -> 1.180837 | G22: 0 | H22: =G22/G$24*100 -> 0 | I22: 0 | J22: =I22/I$24*100 -> 0 | K22: =C22+G22 -> 236 | L22: =K22/K$24*100 -> 0.9447558 | M22: =E22+I22 -> 854559 | N22: =M22/M$24*100 -> 0.98800119
A23: 13. | B23: Wiener osiguranje a.d. | C23: 2895 | D23: =C23/C$24*100 -> 12.454291 | E23: 6367151 | F23: =E23/E$24*100 -> 8.7981839 | G23: 250 | H23: =G23/G$24*100 -> 14.409222 | I23: 1585082 | J23: =I23/I$24*100 -> 11.221981 | K23: =C23+G23 -> 3145 | L23: =K23/K$24*100 -> 12.590072 | M23: =(E23+I23)+1 -> 7952234 | N23: =M23/M$24*100 -> 9.1940014
B24: Ukupno: | C24: =SUM(C11:C23) -> 23245 | D24: =SUM(D11:D23) -> 100 | E24: =SUM(E11:E23) -> 72368924 | F24: =SUM(F11:F23) -> 100 | G24: =SUM(G11:G23) -> 1735 | H24: =SUM(H11:H23) -> 100 | I24: =SUM(I11:I23) -> 14124797 | J24: =SUM(J11:J23) -> 100 | ... N24: =SUM(N11:N23) -> 100
A26: *Podaci su dati na osnovu nerevidiranih izvještaja društava sa sjedištem u Republici Srpskoj.
